BEGIN:VCALENDAR
VERSION:2.0
PRODID:-//wp-events-plugin.com//7.2.3.1//EN
TZID:Europe/Paris
X-WR-TIMEZONE:Europe/Paris
BEGIN:VEVENT
UID:2@rezeseniors.fr
DTSTART;TZID=Europe/Paris;VALUE=DATE:20250623
DTEND;TZID=Europe/Paris;VALUE=DATE:20250624
DTSTAMP:20250701T124853Z
URL:https://rezeseniors.fr/events/adherer-a-lassociation/
SUMMARY:Adhérer à l'association
DESCRIPTION:Adhésion individuelle de 7 € / an\, obligatoire pour partici
 per aux activités Rezé Seniors.
ATTACH;FMTTYPE=image/jpeg:https://rezeseniors.fr/wp-content/uploads/2025/0
 3/Reze-seniors-logo_couleur.png
CATEGORIES:Adhésion
END:VEVENT
BEGIN:VTIMEZONE
TZID:Europe/Paris
X-LIC-LOCATION:Europe/Paris
BEGIN:DAYLIGHT
DTSTART:20250330T030000
TZOFFSETFROM:+0100
TZOFFSETTO:+0200
TZNAME:CEST
END:DAYLIGHT
END:VTIMEZONE
END:VCALENDAR