BEGIN:VCALENDAR
VERSION:2.0
PRODID:-//wp-events-plugin.com//7.2.3.1//EN
TZID:Europe/Paris
X-WR-TIMEZONE:Europe/Paris
BEGIN:VEVENT
UID:83@rezeseniors.fr
DTSTART;TZID=Europe/Paris:20260428T150000
DTEND;TZID=Europe/Paris:20260428T170000
DTSTAMP:20260327T141605Z
URL:https://rezeseniors.fr/events/mardis-histoire-les-enigmatiques-venus/
SUMMARY:Les Mardis de l'Histoire Les énigmatiques "Vénus" paléolihiques.
 ..conférence présentée par Jacques Daniel
DESCRIPTION:Les vénus paléolithiques sont de petites statuettes féminine
 s du Paléolithique supérieur\, découvertes en Eurasie.\n\nElles sont r
 éalisées en ivoire\, pierre ou terre cuite\, parfois peintes\, et mesure
 nt entre 4 et 25 cm. Le terme « Vénus » a été donné au XXe siècle p
 our les désigner.
ATTACH;FMTTYPE=image/jpeg:https://rezeseniors.fr/wp-content/uploads/2026/0
 3/Les-mardis-de-lhistoire.jpg
CATEGORIES:Activités diverses,Evénements,Mardis de l’Histoire
LOCATION:Maison des Isles\, 1 allée Claude Chomet\, Rezé\, France
X-APPLE-STRUCTURED-LOCATION;VALUE=URI;X-ADDRESS=1 allée Claude Chomet\, Re
 zé\, France;X-APPLE-RADIUS=100;X-TITLE=Maison des Isles:geo:0,0
END:VEVENT
BEGIN:VTIMEZONE
TZID:Europe/Paris
X-LIC-LOCATION:Europe/Paris
BEGIN:DAYLIGHT
DTSTART:20260329T030000
TZOFFSETFROM:+0100
TZOFFSETTO:+0200
TZNAME:CEST
END:DAYLIGHT
END:VTIMEZONE
END:VCALENDAR